BEGIN:VCALENDAR
PRODID:-//dvv-bw.de//dvv.Portalplattform//DE
VERSION:2.0
METHOD:PUBLISH
BEGIN:VEVENT
DTSTART:20260606T060000Z
DTEND:20260606T130000Z
DTSTAMP:20260422T220908Z
UID:4096938-4090464-1780696800000
SUMMARY:29. Oldtimertreffen
LOCATION:Schlossplatz, Schlossplatz, 97941 Tauberbischofsheim
DESCRIPTION:Ca. 100 Oldtimer aller Klassen\, zwei- und vierrädrig\, werden erwartet.\nSie haben Interesse\, Ihren Oldtimer auszustellen? Anmeldungen als Aussteller für die Veranstaltung sind unter der E-Mail-Adresse ac.tbb1928@t-online.de oder unter Telefon 09341 5406 sowie 0171 5259666 beim 1.Vorsitzenden Hans-Jürgen Pahl möglich.\n\n\nDer Automobilclub Tauberbischofsheim e. V. im ADAC möchte alle Freunde und Besitzer von alten Automobilen und Motorrädern zu dieser Veranstaltung einladen (Anmeldung ist nur bei Ausstellern erforderlich).\nBitte geben Sie diese Einladung auch an Freunde und bekannte Oldtimerbesitzer weiter.\nDie Aussteller treffen sich zwanglos ab 9 Uhr rund um das Kurmainzische Schloss und erhalten zur Begrüßung ein Glas Sekt.\nIm Rahmen des Treffens ist ein Autokorso durch die Stadt geplant.\nDer Automobilclub freut sich auf alle Gäste\, die sich an Oldtimern erfreuen!Kostenfrei!
CLASS:PUBLIC
X-ALT-DESC;FMTTYPE=text/html:Ca. 100 Oldtimer aller Klassen\, zwei- und vierrädrig\, werden erwartet.<br>Sie haben Interesse\, Ihren Oldtimer auszustellen? Anmeldungen als Aussteller für die Veranstaltung sind unter der E-Mail-Adresse ac.tbb1928@t-online.de oder unter Telefon 09341 5406 sowie 0171 5259666 beim 1.Vorsitzenden Hans-Jürgen Pahl möglich.<br><br><br>Der Automobilclub Tauberbischofsheim e. V. im ADAC möchte alle Freunde und Besitzer von alten Automobilen und Motorrädern zu dieser Veranstaltung einladen (Anmeldung ist nur bei Ausstellern erforderlich).<br>Bitte geben Sie diese Einladung auch an Freunde und bekannte Oldtimerbesitzer weiter.<br>Die Aussteller treffen sich zwanglos ab 9 Uhr rund um das Kurmainzische Schloss und erhalten zur Begrüßung ein Glas Sekt.<br>Im Rahmen des Treffens ist ein Autokorso durch die Stadt geplant.<br>Der Automobilclub freut sich auf alle Gäste\, die sich an Oldtimern erfreuen!Kostenfrei!
END:VEVENT
END:VCALENDAR
