BEGIN:VCALENDAR
PRODID:-//dvv-bw.de//dvv.Portalplattform//DE
VERSION:2.0
METHOD:PUBLISH
BEGIN:VEVENT
DTSTART:20260516T070000Z
DTEND:20260516T090000Z
DTSTAMP:20260422T153352Z
UID:4526457-4526354-1778882400000
SUMMARY:2026 Landesmeisterschaft Baden Nord-Württemberg
LOCATION:Fechtzentrum, Pestalozziallee 12, 97941 Tauberbischofsheim
DESCRIPTION:Am 16. Mai 2026 stehen bei den Landesmeisterschaften im Damen- und Herrenflorett gleich mehrere Highlights an. Die besten Fechterinnen und Fechter aus Baden-Württemberg treten in den Altersklassen U11 und U13 gegeneinander an. Besonders für die U13-Athleten ist dieser Termin besonders wichtig\, da hier die Qualifikation für die Deutschen Meisterschaften ausgefochten werden. Für die jüngeren Starter\, der U11\, ist das Turnier dagegen der absolute Saisonhöhepunkt. Hier zählt vor allem die Erfahrung\, sich mit den Besten zu messen\, Wettkampfpraxis zu sammeln und vielleicht schon erste große Erfolge zu feiern.\nVeranstalter: IG BW\, Ausrichter Fecht-Club Tauberbischofsheim\nOrt: Fechtzentrum\, Pestalozziallee 12
CLASS:PUBLIC
X-ALT-DESC;FMTTYPE=text/html:Am 16. Mai 2026 stehen bei den Landesmeisterschaften im Damen- und Herrenflorett gleich mehrere Highlights an. Die besten Fechterinnen und Fechter aus Baden-Württemberg treten in den Altersklassen U11 und U13 gegeneinander an. Besonders für die U13-Athleten ist dieser Termin besonders wichtig\, da hier die Qualifikation für die Deutschen Meisterschaften ausgefochten werden. Für die jüngeren Starter\, der U11\, ist das Turnier dagegen der absolute Saisonhöhepunkt. Hier zählt vor allem die Erfahrung\, sich mit den Besten zu messen\, Wettkampfpraxis zu sammeln und vielleicht schon erste große Erfolge zu feiern.<br>Veranstalter: IG BW\, Ausrichter Fecht-Club Tauberbischofsheim<br>Ort: Fechtzentrum\, Pestalozziallee 12
END:VEVENT
END:VCALENDAR
