BEGIN:VCALENDAR
PRODID:-//dvv-bw.de//dvv.Portalplattform//DE
VERSION:2.0
METHOD:PUBLISH
BEGIN:VEVENT
DTSTART:20260105T230000Z
DTEND:20261228T230000Z
DTSTAMP:20260105T230000Z
RRULE;FREQ=DAILY;UNTIL=20261229T225959Z
UID:4073416-4073314-1767654000000
SUMMARY:Wochenmarkt
LOCATION:Parkplatz Marktplatz
DESCRIPTION:WICHTIG: Fällt der Wochenmarkt auf einen Feiertag\, so findet der Markt immer am vorhergehenden Werktag statt!\n \nDas Angebot der einzelnen Händler umfasst u. a.: Erntefrische Erzeugnisse von Feld und Hof aus der Region\, aber auch z. B. Brot\, Wurst\, Käse\, Fisch\, Fleisch und Honig.\nJe nach Saison variiert das Angebot.\nTermine 2025\n23.09.\, 8:00–13:00 Uhr\n26.09.\, 8:00–13:00 Uhr\n30.09.\, 8:00–13:00 Uhr\n03.10.\, 8:00–13:00 Uhr\n07.10.\, 8:00–13:00 Uhr\n10.10.\, 8:00–13:00 Uhr\n14.10.\, 8:00–13:00 Uhr\n17.10.\, 8:00–13:00 Uhr\n21.10.\, 8:00–13:00 Uhr\n24.10.\, 8:00–13:00 Uhr\n28.10.\, 8:00–13:00 Uhr\n31.10.\, 8:00–13:00 Uhr\n04.11.\, 8:00–13:00 Uhr\n07.11.\, 8:00–13:00 Uhr\n11.11.\, 8:00–13:00 Uhr\n14.11.\, 8:00–13:00 Uhr\n18.11.\, 8:00–13:00 Uhr\n21.11.\, 8:00–13:00 Uhr\n25.11.\, 8:00–13:00 Uhr\n28.11.\, 8:00–13:00 Uhr
CLASS:PUBLIC
X-ALT-DESC;FMTTYPE=text/html:WICHTIG: Fällt der Wochenmarkt auf einen Feiertag\, so findet der Markt immer am vorhergehenden Werktag statt!<br> <br>Das Angebot der einzelnen Händler umfasst u. a.: Erntefrische Erzeugnisse von Feld und Hof aus der Region\, aber auch z. B. Brot\, Wurst\, Käse\, Fisch\, Fleisch und Honig.<br>Je nach Saison variiert das Angebot.<br>Termine 2025<br>23.09.\, 8:00&ndash;13:00 Uhr<br>26.09.\, 8:00&ndash;13:00 Uhr<br>30.09.\, 8:00&ndash;13:00 Uhr<br>03.10.\, 8:00&ndash;13:00 Uhr<br>07.10.\, 8:00&ndash;13:00 Uhr<br>10.10.\, 8:00&ndash;13:00 Uhr<br>14.10.\, 8:00&ndash;13:00 Uhr<br>17.10.\, 8:00&ndash;13:00 Uhr<br>21.10.\, 8:00&ndash;13:00 Uhr<br>24.10.\, 8:00&ndash;13:00 Uhr<br>28.10.\, 8:00&ndash;13:00 Uhr<br>31.10.\, 8:00&ndash;13:00 Uhr<br>04.11.\, 8:00&ndash;13:00 Uhr<br>07.11.\, 8:00&ndash;13:00 Uhr<br>11.11.\, 8:00&ndash;13:00 Uhr<br>14.11.\, 8:00&ndash;13:00 Uhr<br>18.11.\, 8:00&ndash;13:00 Uhr<br>21.11.\, 8:00&ndash;13:00 Uhr<br>25.11.\, 8:00&ndash;13:00 Uhr<br>28.11.\, 8:00&ndash;13:00 Uhr
END:VEVENT
END:VCALENDAR
