BEGIN:VCALENDAR
PRODID:-//dvv-bw.de//dvv.Portalplattform//DE
VERSION:2.0
METHOD:PUBLISH
BEGIN:VEVENT
DTSTART:20260511T153000Z
DTEND:20260511T173000Z
DTSTAMP:20260422T215826Z
UID:4470507-4470407-1778450400000
SUMMARY:Wanderung: Wallfahrt nach Liebfrauenbrunn
DESCRIPTION:Die kfd Impfingen lädt alle Frauen zur traditionellen Wallfahrt nach Liebfrauenbrunn ein.\n Treffpunkt für die gemeinsame Wanderung ist um 17:30 Uhr am Parkplatz des ehemaligen Café Karges in Impfingen. \nDie Eucharistiefeier in der Kapelle beginnt um 19 Uhr. \nZum Abschluss sind alle zu einem gemütlichen Beisammensein in der Gastwirtschaft "Drei Lilien" in Werbach willkommen.
CLASS:PUBLIC
X-ALT-DESC;FMTTYPE=text/html:Die kfd Impfingen lädt alle Frauen zur traditionellen Wallfahrt nach Liebfrauenbrunn ein.<br> Treffpunkt für die gemeinsame Wanderung ist um 17:30 Uhr am Parkplatz des ehemaligen Café Karges in Impfingen. <br>Die Eucharistiefeier in der Kapelle beginnt um 19 Uhr. <br>Zum Abschluss sind alle zu einem gemütlichen Beisammensein in der Gastwirtschaft "Drei Lilien" in Werbach willkommen.
END:VEVENT
END:VCALENDAR
