BEGIN:VCALENDAR
PRODID:-//dvv-bw.de//dvv.Portalplattform//DE
VERSION:2.0
METHOD:PUBLISH
BEGIN:VEVENT
DTSTART:20260424T160000Z
DTEND:20260424T160000Z
DTSTAMP:20260423T015551Z
UID:4497951-4497851-1776981600000
SUMMARY:Terrassen-Opening mit Livemusik beim Schlosscafé
DESCRIPTION:Schlosscafé - Café\, Restaurant und Bar\nDer perfekte Start in die Terrassensaison mit musikalischer Begleitung von Werner Zeh mit dem Akkordeon.
CLASS:PUBLIC
X-ALT-DESC;FMTTYPE=text/html:Schlosscafé - Café\, Restaurant und Bar<br>Der perfekte Start in die Terrassensaison mit musikalischer Begleitung von Werner Zeh mit dem Akkordeon.
END:VEVENT
END:VCALENDAR
