BEGIN:VCALENDAR
PRODID:-//dvv-bw.de//dvv.Portalplattform//DE
VERSION:2.0
METHOD:PUBLISH
BEGIN:VEVENT
DTSTART:20260430T220000Z
DTEND:20260520T220000Z
DTSTAMP:20260422T222416Z
RRULE;FREQ=DAILY;UNTIL=20260521T215959Z
UID:4512104-4512004-1777586400000
SUMMARY:Stadtradeln 2026
DESCRIPTION:Auch 2026 nimmt Tauberbischofsheim wieder an der bundesweiten Aktion „Stadtradeln“ teil und setzt damit ein Zeichen für nachhaltige Mobilität\, Klimaschutz und Gesundheit. In diesem Jahr startet die Stadt als Auftaktkommune in die Stadtradeln-Saison.Der Aktionszeitraum läuft vom 1. bis zum 21. Mai. In diesen drei Wochen heißt es: Möglichst viele Alltagswege klimafreundlich mit dem Fahrrad zurücklegen und gemeinsam Kilometer sammeln.Alle Bürgerinnen und Bürger\, Vereine\, Schulen\, Unternehmen sowie Mitglieder des Gemeinderats sind herzlich eingeladen\, mitzumachen – ob im Team oder allein\, jeder Kilometer zählt!Für Schulen gibt es wieder ein eigenes Schulradeln\, bei dem Schülerinnen und Schüler gemeinsam Kilometer sammeln und gegeneinander antreten können.Die feierliche Preisverleihung findet im Rahmen der After-Work-Party am 30. Juli statt.So können Sie sich anmelden:Melden Sie sich ganz einfach über die StadtradelnApp\, den QRCode\, die Website oder direkt bei dem Klimaschutzmanager Alexander Stiller an.Kontakt für Anmeldung und Fragen:Klimaschutzmanager Alexander StillerE-Mail: klimaschutz@tauberbischofsheim.de Tel. 09341 803-6108Nutzen Sie die Gelegenheit\, aktiv zum Klimaschutz beizutragen\, etwas für Ihre Gesundheit zu tun und gemeinsam mit vielen anderen ein starkes Zeichen für eine fahrradfreundliche Stadt zu setzen.Machen Sie mit – Tauberbischofsheim radelt voraus!
CLASS:PUBLIC
X-ALT-DESC;FMTTYPE=text/html:Auch 2026 nimmt Tauberbischofsheim wieder an der bundesweiten Aktion &bdquo;Stadtradeln&ldquo; teil und setzt damit ein Zeichen für nachhaltige Mobilität\, Klimaschutz und Gesundheit. In diesem Jahr startet die Stadt als Auftaktkommune in die Stadtradeln-Saison.Der Aktionszeitraum läuft vom 1. bis zum 21. Mai. In diesen drei Wochen heißt es: Möglichst viele Alltagswege klimafreundlich mit dem Fahrrad zurücklegen und gemeinsam Kilometer sammeln.Alle Bürgerinnen und Bürger\, Vereine\, Schulen\, Unternehmen sowie Mitglieder des Gemeinderats sind herzlich eingeladen\, mitzumachen &ndash; ob im Team oder allein\, jeder Kilometer zählt!Für Schulen gibt es wieder ein eigenes Schulradeln\, bei dem Schülerinnen und Schüler gemeinsam Kilometer sammeln und gegeneinander antreten können.Die feierliche Preisverleihung findet im Rahmen der After-Work-Party am 30. Juli statt.So können Sie sich anmelden:Melden Sie sich ganz einfach über die StadtradelnApp\, den QRCode\, die Website oder direkt bei dem Klimaschutzmanager Alexander Stiller an.Kontakt für Anmeldung und Fragen:Klimaschutzmanager Alexander StillerE-Mail: klimaschutz@tauberbischofsheim.de Tel. 09341 803-6108Nutzen Sie die Gelegenheit\, aktiv zum Klimaschutz beizutragen\, etwas für Ihre Gesundheit zu tun und gemeinsam mit vielen anderen ein starkes Zeichen für eine fahrradfreundliche Stadt zu setzen.Machen Sie mit &ndash; Tauberbischofsheim radelt voraus!
END:VEVENT
END:VCALENDAR
