BEGIN:VCALENDAR
PRODID:-//dvv-bw.de//dvv.Portalplattform//DE
VERSION:2.0
METHOD:PUBLISH
BEGIN:VEVENT
DTSTART:20260426T090000Z
DTEND:20260426T110000Z
DTSTAMP:20260422T121308Z
UID:4225355-4225554-1777154400000
SUMMARY:Musikschulpodium
LOCATION:Stadthalle Tauberbischofsheim, Vitryallee 7, 97941 Tauberbischofsheim
DESCRIPTION:Das Musikschulpodium der Städtischen Musikschule zeigt sein Können.
CLASS:PUBLIC
X-ALT-DESC;FMTTYPE=text/html:Das Musikschulpodium der Städtischen Musikschule zeigt sein Können.
END:VEVENT
END:VCALENDAR
