BEGIN:VCALENDAR
PRODID:-//dvv-bw.de//dvv.Portalplattform//DE
VERSION:2.0
METHOD:PUBLISH
BEGIN:VEVENT
DTSTART:20260501T073000Z
DTEND:20260501T093000Z
DTSTAMP:20260422T135100Z
UID:4512106-4512006-1777586400000
SUMMARY:Maiwanderung Hochhausen
DESCRIPTION:Die traditionelle Maiwanderung des Sportvereins 1946 Hochhausen e. V. startet am Lagerhaus Geier.\nAnschließend lädt der Sportverein am Sportheim zum gemütlichen Mittagstisch bei Grillgut und Salaten.
CLASS:PUBLIC
X-ALT-DESC;FMTTYPE=text/html:Die traditionelle Maiwanderung des Sportvereins 1946 Hochhausen e. V. startet am Lagerhaus Geier.<br>Anschließend lädt der Sportverein am Sportheim zum gemütlichen Mittagstisch bei Grillgut und Salaten.
END:VEVENT
END:VCALENDAR
