BEGIN:VCALENDAR
PRODID:-//dvv-bw.de//dvv.Portalplattform//DE
VERSION:2.0
METHOD:PUBLISH
BEGIN:VEVENT
DTSTART:20260521T133000Z
DTEND:20260521T160000Z
DTSTAMP:20260423T004618Z
UID:4493427-4493309-1779314400000
SUMMARY:Mai- und Marienlieder im Erzählcafé
LOCATION:Erzähl-Café\, Frauenstraße 2\, 97941 Tauberbischofsheim
DESCRIPTION:Mai- und Marienlieder im Erzählcafé - begleitet von Werner Höfert auf der Zither.\nIn gewohnter Weise gibt es bereits ab 15 Uhr Kaffee und Kuchen. Die Veranstaltung ist kostenfrei\, Spenden sind willkommen.\nDas Erzähl-Café ist barrierefrei zu erreichen und ist wöchentlich dienstags und donnerstags geöffnet.\nDie Parkplätze vor dem Haus in der Frauenstraße 2 nach Möglichkeit bitte für die Anwohner freihalten!\nRückfragen\, auch bei Interesse zu ehrenamtlicher Mitarbeit\, unter Telefon 09341 12364.
CLASS:PUBLIC
X-ALT-DESC;FMTTYPE=text/html:Mai- und Marienlieder im Erzählcafé - begleitet von Werner Höfert auf der Zither.<br>In gewohnter Weise gibt es bereits ab 15 Uhr Kaffee und Kuchen. Die Veranstaltung ist kostenfrei\, Spenden sind willkommen.<br>Das Erzähl-Café ist barrierefrei zu erreichen und ist wöchentlich dienstags und donnerstags geöffnet.<br>Die Parkplätze vor dem Haus in der Frauenstraße 2 nach Möglichkeit bitte für die Anwohner freihalten!<br>Rückfragen\, auch bei Interesse zu ehrenamtlicher Mitarbeit\, unter Telefon 09341 12364.
END:VEVENT
END:VCALENDAR
