BEGIN:VCALENDAR
PRODID:-//dvv-bw.de//dvv.Portalplattform//DE
VERSION:2.0
METHOD:PUBLISH
BEGIN:VEVENT
DTSTART:20260503T090000Z
DTEND:20260503T160000Z
DTSTAMP:20260422T191059Z
UID:4389307-3938611-1777759200000
SUMMARY:Kunsthandwerkermarkt "Kreativ & Kulinarik"
LOCATION:Marktplatz Tauberbischofsheim, Marktplatz, 97941 Tauberbischofsheim
DESCRIPTION:Der bereits vierte Markt seiner Art.\nKünstler und Kunsthandwerker präsentieren von 11 bis 18 Uhr erstmalig entlang der Fußgängerzone und im Klosterhof ihre einzigartigen Werke und bieten handgefertigte Produkte in vielfältigen Bereichen wie Keramik\, Schmuck\, Holz und vielem mehr an.\n\n\n\n\n\nAm Vorabend\, dem 2. Mai\, wird es bereits an Streetfoodständen kulinarische Leckereien am Marktplatz zur Einstimmung geben.\n\nPROGRAMM\nSamstag\, 2. Mai\nAbends kulinarische Leckereien am Marktplatz\nSonntag\, 3. Mai\n11 bis 18 Uhr - Kunsthandwerkermarkt "Kreativ & Kulinarisch" entlang der Fußgängerzone und im Klosterhof\n13 bis 18 Uhr - Verkaufsoffener Sonntag "Schoppen\, Schlemmen und Flanieren" in Stadtbereich\n14 bis 15 Uhr - Kinderstadtführung mit "Jungfer Agathe Steigleder"\, die kleine Leckereien in ihrem Marktkorb für die Teilnehmer bereithält; Treffpunkt: Marktplatzbrunnen; Teilnahme kostenlos für Kinder wie auch für die erwachsenen Begleitpersonen; keine Voranmeldung erforderlich. Teilnehmen dürfen Kinder jeden Alters in Begleitung eines Erziehungsbereichtigten.\n14 bis 17 Uhr - Café "Anno-Dazumal" im Jägerhäusle am Kurmainzischen Schloss geöffnet.\n\n \nAnmeldung und Vorverkauf\n\nSie wollen selbst ausstellen?Wenden Sie sich an die Stadt Tauberbischofsheim für weitere Infos\, Claudia Thum\, Telefon 09341 803 1031.
CLASS:PUBLIC
X-ALT-DESC;FMTTYPE=text/html:Der bereits vierte Markt seiner Art.<br>Künstler und Kunsthandwerker präsentieren von 11 bis 18 Uhr erstmalig entlang der Fußgängerzone und im Klosterhof ihre einzigartigen Werke und bieten handgefertigte Produkte in vielfältigen Bereichen wie Keramik\, Schmuck\, Holz und vielem mehr an.<br><br><br><br><br><br>Am Vorabend\, dem 2. Mai\, wird es bereits an Streetfoodständen kulinarische Leckereien am Marktplatz zur Einstimmung geben.<br><br>PROGRAMM<br>Samstag\, 2. Mai<br>Abends kulinarische Leckereien am Marktplatz<br>Sonntag\, 3. Mai<br>11 bis 18 Uhr - Kunsthandwerkermarkt "Kreativ & Kulinarisch" entlang der Fußgängerzone und im Klosterhof<br>13 bis 18 Uhr - Verkaufsoffener Sonntag "Schoppen\, Schlemmen und Flanieren" in Stadtbereich<br>14 bis 15 Uhr - Kinderstadtführung mit "Jungfer Agathe Steigleder"\, die kleine Leckereien in ihrem Marktkorb für die Teilnehmer bereithält; Treffpunkt: Marktplatzbrunnen; Teilnahme kostenlos für Kinder wie auch für die erwachsenen Begleitpersonen; keine Voranmeldung erforderlich. Teilnehmen dürfen Kinder jeden Alters in Begleitung eines Erziehungsbereichtigten.<br>14 bis 17 Uhr - Café "Anno-Dazumal" im Jägerhäusle am Kurmainzischen Schloss geöffnet.<br><br> <br>Anmeldung und Vorverkauf<br><br>Sie wollen selbst ausstellen?Wenden Sie sich an die Stadt Tauberbischofsheim für weitere Infos\, Claudia Thum\, Telefon 09341 803 1031.
END:VEVENT
END:VCALENDAR
