BEGIN:VCALENDAR
PRODID:-//dvv-bw.de//dvv.Portalplattform//DE
VERSION:2.0
METHOD:PUBLISH
BEGIN:VEVENT
DTSTART:20260617T133000Z
DTEND:20260617T153000Z
DTSTAMP:20260422T230025Z
UID:4246108-4090455-1781647200000
SUMMARY:KreaKtiv-Treff
LOCATION:KunstWERK\, Eichstraße 5\, 97941 Tauberbischofsheim
DESCRIPTION:Allgemeine Informationen zum KreaKtiv-Treffen im KunstWERK (Atelierhaus des Kunstvereins Tauberbischofsheim e.V.)\nKreaKtiv-Nachmittage im KunstWerk\, Eichstr. 5\, finden regulär jeden 1. und 3. Mittwoch im Monat (außer in den Schulferien) statt.Ausnahmen bzw. Zusatztermine – je nach VereinbarungZeiten: 15:30 – 17:30 UhrAnfragen bitte per Mail an: atelier@gunterschmidt.deLeitung: Gunter Schmidt und Barbara Holzer\nDer KreaKtiv-Treff ist grundsätzlich ein freies\, also kein schulisch verpflichtendes Treffen.Wer kommt\, bezahlt jeweils 3 Euro. Gelegentlich fällt zusätzlich eine kleine Gebühr für Material an.Geeignet für Kinder von 8 bis ca. 13 Jahren.\nDas Programm besteht in einem Wechsel aus Malen\, Basteln und skulpturalem Gestalten\, z.B. Specksteinbearbeitung oder Formen mit Modelliermasse.Die Zahl der Teilnehmenden kann pro Treffen variieren. Die Kapazität ist jedoch auf maximal 15 Teilnehmer beschränkt.\nEine Anmeldung per Mail bei Gunter Schmidt einen Tag vor dem jeweiligen Termin ist daher sehr wichtig. Da es immer mal eine kleine Fluktuation gibt\, können wir von Fall zu Fall auch einzelne Neulinge integrieren.Zusätzlich können auf Anfrage auch Kindergeburtstage im KunstWERK stattfinden.
CLASS:PUBLIC
X-ALT-DESC;FMTTYPE=text/html:Allgemeine Informationen zum KreaKtiv-Treffen im KunstWERK (Atelierhaus des Kunstvereins Tauberbischofsheim e.V.)<br>KreaKtiv-Nachmittage im KunstWerk\, Eichstr. 5\, finden regulär jeden 1. und 3. Mittwoch im Monat (außer in den Schulferien) statt.Ausnahmen bzw. Zusatztermine &ndash; je nach VereinbarungZeiten: 15:30 &ndash; 17:30 UhrAnfragen bitte per Mail an: atelier@gunterschmidt.deLeitung: Gunter Schmidt und Barbara Holzer<br>Der KreaKtiv-Treff ist grundsätzlich ein freies\, also kein schulisch verpflichtendes Treffen.Wer kommt\, bezahlt jeweils 3 Euro. Gelegentlich fällt zusätzlich eine kleine Gebühr für Material an.Geeignet für Kinder von 8 bis ca. 13 Jahren.<br>Das Programm besteht in einem Wechsel aus Malen\, Basteln und skulpturalem Gestalten\, z.B. Specksteinbearbeitung oder Formen mit Modelliermasse.Die Zahl der Teilnehmenden kann pro Treffen variieren. Die Kapazität ist jedoch auf maximal 15 Teilnehmer beschränkt.<br>Eine Anmeldung per Mail bei Gunter Schmidt einen Tag vor dem jeweiligen Termin ist daher sehr wichtig. Da es immer mal eine kleine Fluktuation gibt\, können wir von Fall zu Fall auch einzelne Neulinge integrieren.Zusätzlich können auf Anfrage auch Kindergeburtstage im KunstWERK stattfinden.
END:VEVENT
END:VCALENDAR
