BEGIN:VCALENDAR
PRODID:-//dvv-bw.de//dvv.Portalplattform//DE
VERSION:2.0
METHOD:PUBLISH
BEGIN:VEVENT
DTSTART:20260617T160000Z
DTEND:20260617T200000Z
DTSTAMP:20260422T230345Z
UID:4402259-4402154-1781647200000
SUMMARY:Kochkurs italienisch "Bella Italia"
LOCATION:MÖBEL SCHOTT\, Daimlerstraße 7
DESCRIPTION:Dieser Kochkurs entführt Sie in die Welt der italienischen Küche – mit besonderem Augenmerk auf saisonales\, sommerliches Gemüse und den bewussten Einsatz typischer Zutaten.\nGemeinsam entdecken wir\, wie Olivenöl\, Parmesan\, Schinken und weitere Klassiker richtig verarbeitet werden und woran sich hochwertige Qualität erkennen lässt.\nDie saisonal abgestimmten Gerichte orientieren sich an authentischen italienischen Kochweisen.\nEs entsteht eine vielseitige Auswahl aus Vorspeisen\, Hauptgängen und Desserts\, die die Leichtigkeit und Vielfalt Italiens widerspiegelt\, ohne zu viel vorwegzunehmen.\nEin Kurs für alle\, die die italienische Küche von Grund auf kennenlernen und ein Stück mediterranen Genuss in den eigenen Alltag bringen möchten – unkompliziert\, aromatisch und praxisnah.\nAnmeldung: https://hintermherd.de/collections/kochkurse-backkurse/products/kochkurs-italienisch-am-17-06-2026\nPreis: 79\,00 €
CLASS:PUBLIC
X-ALT-DESC;FMTTYPE=text/html:Dieser Kochkurs entführt Sie in die Welt der italienischen Küche &ndash; mit besonderem Augenmerk auf saisonales\, sommerliches Gemüse und den bewussten Einsatz typischer Zutaten.<br>Gemeinsam entdecken wir\, wie Olivenöl\, Parmesan\, Schinken und weitere Klassiker richtig verarbeitet werden und woran sich hochwertige Qualität erkennen lässt.<br>Die saisonal abgestimmten Gerichte orientieren sich an authentischen italienischen Kochweisen.<br>Es entsteht eine vielseitige Auswahl aus Vorspeisen\, Hauptgängen und Desserts\, die die Leichtigkeit und Vielfalt Italiens widerspiegelt\, ohne zu viel vorwegzunehmen.<br>Ein Kurs für alle\, die die italienische Küche von Grund auf kennenlernen und ein Stück mediterranen Genuss in den eigenen Alltag bringen möchten &ndash; unkompliziert\, aromatisch und praxisnah.<br>Anmeldung: https://hintermherd.de/collections/kochkurse-backkurse/products/kochkurs-italienisch-am-17-06-2026<br>Preis: 79\,00 &euro;
END:VEVENT
END:VCALENDAR
