BEGIN:VCALENDAR
PRODID:-//dvv-bw.de//dvv.Portalplattform//DE
VERSION:2.0
METHOD:PUBLISH
BEGIN:VEVENT
DTSTART:20260627T160000Z
DTEND:20260627T200000Z
DTSTAMP:20260423T004555Z
UID:4402260-4402155-1782511200000
SUMMARY:Kochkurs für Anfänger
LOCATION:MÖBEL SCHOTT\, Daimlerstraße 7
DESCRIPTION:In diesem Kochkurs entdecken wir gemeinsam die Welt der klassischen Hausmannskost – bodenständig\, aromatisch und ganz ohne Fixprodukte oder Fertigmischungen.\nSchritt für Schritt lernen Sie die Grundlagen des Kochens mit frischen Zutaten und klaren\, nachvollziehbaren Techniken.\nDabei zeigen wir\, dass traditionelle Gerichte weder kompliziert noch zeitaufwendig sein müssen.Gemeinsam bereiten wir mehrere Klassiker zu – von Grießklößchensuppe und Maultaschen auf Salat über Schweinefilletröllchen mit Champignonsoße\, Speckbohnen und selbstgemachten Spätzle bis hin zu Erdbeerknödeln mit Vanillesoße.\nDer Kurs richtet sich an alle\, die Kochen von Grund auf lernen oder ihre Kenntnisse vertiefen möchten und Freude daran haben\, bewährte Rezepte neu zu entdecken. Ehrlich\, alltagstauglich und mit viel Genuss.\nAnmeldung unter: https://hintermherd.de/collections/kochkurse-backkurse/products/kochkurs-fur-anfanger\nPreis: 79\,00 €
CLASS:PUBLIC
X-ALT-DESC;FMTTYPE=text/html:In diesem Kochkurs entdecken wir gemeinsam die Welt der klassischen Hausmannskost &ndash; bodenständig\, aromatisch und ganz ohne Fixprodukte oder Fertigmischungen.<br>Schritt für Schritt lernen Sie die Grundlagen des Kochens mit frischen Zutaten und klaren\, nachvollziehbaren Techniken.<br>Dabei zeigen wir\, dass traditionelle Gerichte weder kompliziert noch zeitaufwendig sein müssen.Gemeinsam bereiten wir mehrere Klassiker zu &ndash; von Grießklößchensuppe und Maultaschen auf Salat über Schweinefilletröllchen mit Champignonsoße\, Speckbohnen und selbstgemachten Spätzle bis hin zu Erdbeerknödeln mit Vanillesoße.<br>Der Kurs richtet sich an alle\, die Kochen von Grund auf lernen oder ihre Kenntnisse vertiefen möchten und Freude daran haben\, bewährte Rezepte neu zu entdecken. Ehrlich\, alltagstauglich und mit viel Genuss.<br>Anmeldung unter: https://hintermherd.de/collections/kochkurse-backkurse/products/kochkurs-fur-anfanger<br>Preis: 79\,00 &euro;
END:VEVENT
END:VCALENDAR
