BEGIN:VCALENDAR
PRODID:-//dvv-bw.de//dvv.Portalplattform//DE
VERSION:2.0
METHOD:PUBLISH
BEGIN:VEVENT
DTSTART:20260718T150000Z
DTEND:20260718T190000Z
DTSTAMP:20260422T223440Z
UID:4402261-4402156-1784325600000
SUMMARY:Kochkurs "Bruschetta, Pasta & mehr"
LOCATION:MÖBEL SCHOTT\, Daimlerstraße 7
DESCRIPTION:Genießen Sie einen Abend ganz im Zeichen der italienischen Küche – voller Leichtigkeit\, Aroma und Geselligkeit.\nIn diesem Kochkurs bereiten wir gemeinsam typische Gerichte zu\, die nach Sommer und Urlaub schmecken: frisch\, unkompliziert und authentisch.\nDer Kurs eignet sich sowohl für Einsteiger als auch für alle\, die ihre Kenntnisse der italienischen Küche vertiefen möchten.\nMit hochwertigen Zutaten und klar erklärten Arbeitsschritten zeigen wir\, wie vielseitig und alltagstauglich italienisches Kochen sein kann.\nEin besonderes Highlight ist das Zubereiten von Ravioli – vom selbstgemachten Teig bis zur aromatischen Füllung. Ergänzt wird das Menü durch klassische Vorspeisen und ein traditionelles Dessert.\nAuf dem Menü stehen dreierlei Bruschetta\, Panzanella\, Ravioli mit Käsefüllung auf geschmorten Tomaten sowie Tiramisu.\nEin Kurs für alle\, die italienische Lebensfreude genießen und neue Lieblingsrezepte entdecken möchten.\nAnmeldung unter: https://hintermherd.de/collections/kochkurse-backkurse/products/kochkurs-bruschetta-pasta-mehr\nPreis: 79\,00 €
CLASS:PUBLIC
X-ALT-DESC;FMTTYPE=text/html:Genießen Sie einen Abend ganz im Zeichen der italienischen Küche &ndash; voller Leichtigkeit\, Aroma und Geselligkeit.<br>In diesem Kochkurs bereiten wir gemeinsam typische Gerichte zu\, die nach Sommer und Urlaub schmecken: frisch\, unkompliziert und authentisch.<br>Der Kurs eignet sich sowohl für Einsteiger als auch für alle\, die ihre Kenntnisse der italienischen Küche vertiefen möchten.<br>Mit hochwertigen Zutaten und klar erklärten Arbeitsschritten zeigen wir\, wie vielseitig und alltagstauglich italienisches Kochen sein kann.<br>Ein besonderes Highlight ist das Zubereiten von Ravioli &ndash; vom selbstgemachten Teig bis zur aromatischen Füllung. Ergänzt wird das Menü durch klassische Vorspeisen und ein traditionelles Dessert.<br>Auf dem Menü stehen dreierlei Bruschetta\, Panzanella\, Ravioli mit Käsefüllung auf geschmorten Tomaten sowie Tiramisu.<br>Ein Kurs für alle\, die italienische Lebensfreude genießen und neue Lieblingsrezepte entdecken möchten.<br>Anmeldung unter: https://hintermherd.de/collections/kochkurse-backkurse/products/kochkurs-bruschetta-pasta-mehr<br>Preis: 79\,00 &euro;
END:VEVENT
END:VCALENDAR
