BEGIN:VCALENDAR
PRODID:-//dvv-bw.de//dvv.Portalplattform//DE
VERSION:2.0
METHOD:PUBLISH
BEGIN:VEVENT
DTSTART:20260516T140000Z
DTEND:20260516T203000Z
DTSTAMP:20260423T043232Z
UID:4530402-4450554-1778882400000
SUMMARY:Italienische Nacht mit den "ROSSINIS"
LOCATION:Marktplatz Tauberbischofsheim, Marktplatz, 97941 Tauberbischofsheim
DESCRIPTION:Italienische Nacht mit Live-Musik: "Die ROSSINIS" als Trio von 17.30 bis max. 22 Uhr\nAusschankende: 22.30 Uhr\nVespa-Treffen des Vespa-Clubs Main-Tauber am Marktplatz\nVeranstalter und Bewirtung in Kooperation: Carellas\, TauBar\, Bischemer Kröten und DieKaffeeKirsche\nKulinarische Spezialitäten erwarten die Besucher: "The Rolling Burger" u a. mit Spanferkel-Burger\, zudem gibt es Pizza und ein spezielles Nudelgericht sowie weitere Leckereien. Eine Aperol-Spritzz-Bar und ein Kaffee-Foodtruck runden das Angebot ab.\n \nPressetext zu "Die Rossinis":\nDie Rossinis revolutionieren die Musikszene in Franken und weit darüber hinaus. Denn hier verschmelzen Band\, Bühne und Publikum zu einer Einheit! Die Rossinis spielen direkt im Publikum\, die Musik wird hautnah erlebt.\nMit ihrem unverwechselbaren Italo Style\, den einzigartigen Charakteren und einem Entertainment\, das einfach Spaß macht\, spielen sich die Rossinis innerhalb von Minuten in die Herzen (und die Beine) des Publikums. Ob Italo\, Latino\, Deutsch\, Rock'n'Roll\, Party- oder Discomusik - diese Band spielt alles absolut live!
CLASS:PUBLIC
X-ALT-DESC;FMTTYPE=text/html:Italienische Nacht mit Live-Musik: "Die ROSSINIS" als Trio von 17.30 bis max. 22 Uhr<br>Ausschankende: 22.30 Uhr<br>Vespa-Treffen des Vespa-Clubs Main-Tauber am Marktplatz<br>Veranstalter und Bewirtung in Kooperation: Carellas\, TauBar\, Bischemer Kröten und DieKaffeeKirsche<br>Kulinarische Spezialitäten erwarten die Besucher: "The Rolling Burger" u a. mit Spanferkel-Burger\, zudem gibt es Pizza und ein spezielles Nudelgericht sowie weitere Leckereien. Eine Aperol-Spritzz-Bar und ein Kaffee-Foodtruck runden das Angebot ab.<br> <br>Pressetext zu "Die Rossinis":<br>Die Rossinis revolutionieren die Musikszene in Franken und weit darüber hinaus. Denn hier verschmelzen Band\, Bühne und Publikum zu einer Einheit! Die Rossinis spielen direkt im Publikum\, die Musik wird hautnah erlebt.<br>Mit ihrem unverwechselbaren Italo Style\, den einzigartigen Charakteren und einem Entertainment\, das einfach Spaß macht\, spielen sich die Rossinis innerhalb von Minuten in die Herzen (und die Beine) des Publikums. Ob Italo\, Latino\, Deutsch\, Rock'n'Roll\, Party- oder Discomusik - diese Band spielt alles absolut live!
END:VEVENT
END:VCALENDAR
