BEGIN:VCALENDAR
PRODID:-//dvv-bw.de//dvv.Portalplattform//DE
VERSION:2.0
METHOD:PUBLISH
BEGIN:VEVENT
DTSTART:20260918T150000Z
DTEND:20260918T190000Z
DTSTAMP:20260423T000326Z
UID:4183567-4183482-1789682400000
SUMMARY:Grillkurs für Fortgeschrittene
LOCATION:MÖBEL SCHOTT\, Daimlerstraße 7
DESCRIPTION:Der Grillkurs für Fortgeschrittene ist perfekt für alle\, die ihre Grillfähigkeiten verfeinern und neue Techniken meistern möchten. Unter der Anleitung erfahrener Grillprofis lernen die Teilnehmenden\,wie sich Fleisch\, Fisch und Gemüse mit professionellen Methoden in wahre Gourmetgerichte verwandeln lassen.Im Mittelpunkt stehen anspruchsvolle Grilltechniken wie der Einsatz von Drehspießen\, Planchas\, Zedernholzplanken und Smoker-Grills. Schritt für Schritt wird gezeigt\, wie durch indirektes Grillen\,Räuchern und gezielte Hitzesteuerung intensive Aromen und raffinierte Geschmackskompositionen entstehen.Praxisnah bereiten Sie Gerichte wie Lachs auf der Zedernplanke\, Porchetta vom Drehspieß\, ganzes Huhn vom Grill oder kreative Beilagen wie Spitzkohl und Schupfnudeln aus dem Wok zu. Dabei lernen Sie den souveränen Umgang mit verschiedenen Grillarten – vom Gas- und Holzkohlegrill über den Pelletsmoker bis hin zur Plancha.Dieser Kurs richtet sich an ambitionierte Hobbygriller und alle\, die ihr Können vertiefen möchten.Ein Erlebnis voller Wissen\, Leidenschaft und Inspiration – ideal auch als Gutschein oder Geschenkidee für Grillbegeisterte.Ein Abend\, der zeigt\, dass Grillen weit mehr ist als Bratwurst und Steak – hier wird jedes Gericht zum kulinarischen Highlight.\nGetränke sind NICHT inklusive.\nVeranstaltungsort: MÖBEL SCHOTT Outdoor Living\, Daimlerstraße 7\, 97941 Tauberbischofsheim \nVoranmeldung erforderlich unter www.hintermherd.de\nKursnummer 78849; Preis 85\,00 € pro Person; max. Teilnehmerzahl 18
CLASS:PUBLIC
X-ALT-DESC;FMTTYPE=text/html:Der Grillkurs für Fortgeschrittene ist perfekt für alle\, die ihre Grillfähigkeiten verfeinern und neue Techniken meistern möchten. Unter der Anleitung erfahrener Grillprofis lernen die Teilnehmenden\,wie sich Fleisch\, Fisch und Gemüse mit professionellen Methoden in wahre Gourmetgerichte verwandeln lassen.Im Mittelpunkt stehen anspruchsvolle Grilltechniken wie der Einsatz von Drehspießen\, Planchas\, Zedernholzplanken und Smoker-Grills. Schritt für Schritt wird gezeigt\, wie durch indirektes Grillen\,Räuchern und gezielte Hitzesteuerung intensive Aromen und raffinierte Geschmackskompositionen entstehen.Praxisnah bereiten Sie Gerichte wie Lachs auf der Zedernplanke\, Porchetta vom Drehspieß\, ganzes Huhn vom Grill oder kreative Beilagen wie Spitzkohl und Schupfnudeln aus dem Wok zu. Dabei lernen Sie den souveränen Umgang mit verschiedenen Grillarten &ndash; vom Gas- und Holzkohlegrill über den Pelletsmoker bis hin zur Plancha.Dieser Kurs richtet sich an ambitionierte Hobbygriller und alle\, die ihr Können vertiefen möchten.Ein Erlebnis voller Wissen\, Leidenschaft und Inspiration &ndash; ideal auch als Gutschein oder Geschenkidee für Grillbegeisterte.Ein Abend\, der zeigt\, dass Grillen weit mehr ist als Bratwurst und Steak &ndash; hier wird jedes Gericht zum kulinarischen Highlight.<br>Getränke sind NICHT inklusive.<br>Veranstaltungsort: MÖBEL SCHOTT Outdoor Living\, Daimlerstraße 7\, 97941 Tauberbischofsheim <br>Voranmeldung erforderlich unter www.hintermherd.de<br>Kursnummer 78849; Preis 85\,00 &euro; pro Person; max. Teilnehmerzahl 18
END:VEVENT
END:VCALENDAR
