BEGIN:VCALENDAR
PRODID:-//dvv-bw.de//dvv.Portalplattform//DE
VERSION:2.0
METHOD:PUBLISH
BEGIN:VEVENT
DTSTART:20260717T150000Z
DTEND:20260717T190000Z
DTSTAMP:20260422T221054Z
UID:4183564-4183479-1784239200000
SUMMARY:Grillkurs "Grillen um die Welt"
LOCATION:MÖBEL SCHOTT\, Daimlerstraße 7
DESCRIPTION:Beim Grillkurs „Grillen um die Welt“ geht es auf eine kulinarische Reise über Kontinente hinweg – mit dem Grill als Reisepass. Dieses besondere Seminar zeigt\, wie vielseitig internationale Grillkultur sein kann: von rauchig-würzigen BBQ-Spezialitäten aus den USA über herzhafte europäischeKlassiker bis hin zu exotischen Aromen aus der Karibik und Asien. Jede Station bietet neue Geschmackserlebnisse und spannende Inspirationen.Unter der Anleitung erfahrener Grillprofis lernen die Teilnehmenden\, wie typische Zutaten\, Gewürze\, Marinaden und Grilltechniken aus verschiedenen Ländern harmonisch kombiniert werden.\nDabei kommen unterschiedliche Grillarten und Garmethoden zum Einsatz\, um den authentischen Charakter jedes Landes perfekt einzufangen.Der Kurs richtet sich sowohl an Einsteiger als auch an erfahrene Grillfreunde\, die ihren Horizont erweitern und neue kulinarische Ideen ausprobieren möchten. In lockerer\, geselliger Atmosphäre wird gemeinsam gegrillt\, probiert und genossen – ein Erlebnis\, das Genuss und Entdeckergeist verbindet.\nGetränke sind NICHT inklusive.\nVeranstaltungsort: MÖBEL SCHOTT Outdoor Living\, Daimlerstraße 7\, 97941 Tauberbischofsheim \nVoranmeldung erforderlich unter www.hintermherd.de\nKursnummer 78846; Preis 99\,00 € pro Person; max. Teilnehmerzahl 18
CLASS:PUBLIC
X-ALT-DESC;FMTTYPE=text/html:Beim Grillkurs &bdquo;Grillen um die Welt&ldquo; geht es auf eine kulinarische Reise über Kontinente hinweg &ndash; mit dem Grill als Reisepass. Dieses besondere Seminar zeigt\, wie vielseitig internationale Grillkultur sein kann: von rauchig-würzigen BBQ-Spezialitäten aus den USA über herzhafte europäischeKlassiker bis hin zu exotischen Aromen aus der Karibik und Asien. Jede Station bietet neue Geschmackserlebnisse und spannende Inspirationen.Unter der Anleitung erfahrener Grillprofis lernen die Teilnehmenden\, wie typische Zutaten\, Gewürze\, Marinaden und Grilltechniken aus verschiedenen Ländern harmonisch kombiniert werden.<br>Dabei kommen unterschiedliche Grillarten und Garmethoden zum Einsatz\, um den authentischen Charakter jedes Landes perfekt einzufangen.Der Kurs richtet sich sowohl an Einsteiger als auch an erfahrene Grillfreunde\, die ihren Horizont erweitern und neue kulinarische Ideen ausprobieren möchten. In lockerer\, geselliger Atmosphäre wird gemeinsam gegrillt\, probiert und genossen &ndash; ein Erlebnis\, das Genuss und Entdeckergeist verbindet.<br>Getränke sind NICHT inklusive.<br>Veranstaltungsort: MÖBEL SCHOTT Outdoor Living\, Daimlerstraße 7\, 97941 Tauberbischofsheim <br>Voranmeldung erforderlich unter www.hintermherd.de<br>Kursnummer 78846; Preis 99\,00 &euro; pro Person; max. Teilnehmerzahl 18
END:VEVENT
END:VCALENDAR
