BEGIN:VCALENDAR
PRODID:-//dvv-bw.de//dvv.Portalplattform//DE
VERSION:2.0
METHOD:PUBLISH
BEGIN:VEVENT
DTSTART:20260814T150000Z
DTEND:20260814T190000Z
DTSTAMP:20260423T002103Z
UID:4183565-4183480-1786658400000
SUMMARY:Grillkurs "Gartenparty"
LOCATION:MÖBEL SCHOTT\, Daimlerstraße 7
DESCRIPTION:Der Grillkurs „Gartenparty“ vereint sommerliche Leichtigkeit\, frische Zutaten und geselliges Beisammensein im Freien. In diesem Kurs zeigen erfahrene Grillmeister\, wie sich köstliche\, aber dennoch leichte Gerichte auf dem Grill zubereiten lassen – ideal für warme Tage\, laue Sommerabende und entspannte Stunden mit Familie oder Freunden.Gemeinsam werden kreative Rezepte für Fingerfood\, Grillgemüse\, Spieße und erfrischende Sommersalate ausprobiert\, die jeder Gartenparty das gewisse Etwas verleihen. Dabei kommen verschiedene Grillmethoden und Geräte zum Einsatz\, um für Abwechslung und neue Geschmackserlebnisse zu sorgen.Der Kurs eignet sich sowohl für Einsteiger als auch für erfahrene Grillfreunde und begeistert durch seine familienfreundlichen\, vielseitigen Gerichte. Ob zart gegrilltes Fleisch\, buntes Gemüse oder aromatische Dips – hier dreht sich alles um unkomplizierten Genuss und gemeinsames Ausprobieren.Die entspannte Sommeratmosphäre\, das kreative Menü und die Freude am Grillen machen diesen Kurs zu einem besonderen Erlebnis – perfekt auch als Gutschein oder Geschenkidee für alle\, die den Sommer kulinarisch feiern möchten.\nGetränke sind NICHT inklusive.\nVeranstaltungsort: MÖBEL SCHOTT Outdoor Living\, Daimlerstraße 7\, 97941 Tauberbischofsheim \nVoranmeldung erforderlich unter www.hintermherd.de\nKursnummer 78847; Preis 99\,00 € pro Person; max. Teilnehmerzahl 18
CLASS:PUBLIC
X-ALT-DESC;FMTTYPE=text/html:Der Grillkurs &bdquo;Gartenparty&ldquo; vereint sommerliche Leichtigkeit\, frische Zutaten und geselliges Beisammensein im Freien. In diesem Kurs zeigen erfahrene Grillmeister\, wie sich köstliche\, aber dennoch leichte Gerichte auf dem Grill zubereiten lassen &ndash; ideal für warme Tage\, laue Sommerabende und entspannte Stunden mit Familie oder Freunden.Gemeinsam werden kreative Rezepte für Fingerfood\, Grillgemüse\, Spieße und erfrischende Sommersalate ausprobiert\, die jeder Gartenparty das gewisse Etwas verleihen. Dabei kommen verschiedene Grillmethoden und Geräte zum Einsatz\, um für Abwechslung und neue Geschmackserlebnisse zu sorgen.Der Kurs eignet sich sowohl für Einsteiger als auch für erfahrene Grillfreunde und begeistert durch seine familienfreundlichen\, vielseitigen Gerichte. Ob zart gegrilltes Fleisch\, buntes Gemüse oder aromatische Dips &ndash; hier dreht sich alles um unkomplizierten Genuss und gemeinsames Ausprobieren.Die entspannte Sommeratmosphäre\, das kreative Menü und die Freude am Grillen machen diesen Kurs zu einem besonderen Erlebnis &ndash; perfekt auch als Gutschein oder Geschenkidee für alle\, die den Sommer kulinarisch feiern möchten.<br>Getränke sind NICHT inklusive.<br>Veranstaltungsort: MÖBEL SCHOTT Outdoor Living\, Daimlerstraße 7\, 97941 Tauberbischofsheim <br>Voranmeldung erforderlich unter www.hintermherd.de<br>Kursnummer 78847; Preis 99\,00 &euro; pro Person; max. Teilnehmerzahl 18
END:VEVENT
END:VCALENDAR
