BEGIN:VCALENDAR
PRODID:-//dvv-bw.de//dvv.Portalplattform//DE
VERSION:2.0
METHOD:PUBLISH
BEGIN:VEVENT
DTSTART:20260508T220000Z
DTEND:20260510T220000Z
DTSTAMP:20260423T061927Z
RRULE;FREQ=DAILY;UNTIL=20260511T215959Z
UID:4286354-4286254-1778277600000
SUMMARY:Feuerwehrfest in Distelhausen
LOCATION:Feuerwehr Distelhausen\, Wolfgangstraße 12 a\, 97941 Tauberbischofsheim
DESCRIPTION:Kulinarisches: Distelhäuser Getränke (auch alkoholfrei)\, Gegrilltes\, Pommes\, Braten und Grünkernküchle sowie am Montag gegrillte Haxen.\nAm Sonntag beim Frühschoppen spielt die Musikkapelle Distelhausen.
CLASS:PUBLIC
X-ALT-DESC;FMTTYPE=text/html:Kulinarisches: Distelhäuser Getränke (auch alkoholfrei)\, Gegrilltes\, Pommes\, Braten und Grünkernküchle sowie am Montag gegrillte Haxen.<br>Am Sonntag beim Frühschoppen spielt die Musikkapelle Distelhausen.
END:VEVENT
END:VCALENDAR
