BEGIN:VCALENDAR
PRODID:-//dvv-bw.de//dvv.Portalplattform//DE
VERSION:2.0
METHOD:PUBLISH
BEGIN:VEVENT
DTSTART:20261106T170000Z
DTEND:20261106T210000Z
DTSTAMP:20260422T221711Z
UID:4099864-4090476-1793919600000
SUMMARY:Distelhäuser Zwicklbierabend
LOCATION:Alte Füllerei - Distelhäuser Brauerei\, Grünsfelder Straße 3\, 97941 Tauberbischofsheim
DESCRIPTION:Was früher nur den Braumeistern vorbehalten war\, dürfen Sie an diesem Abend selbst erleben: in den Tiefen unseres Lagerkeller sich das eigene Distelhäuser Bier “zwickeln”. Wir geben Ihnen zudem einen wissenswerten Einblick in die Herstellung und Lagerung unserer Biere. Dass es an diesem Abend nicht bierernst zugeht\, zeigt auch das anschließende Abendessen: Im Brauhaus erwartet Sie unsere “Brauhaus-Gaudi”\, bestehend aus Zweierlei vom Rind und Schwein\, Rotkohl\, Spätzle und Serviettenknödel.\n \nSitzplätze\, keine Platzreservierung!
CLASS:PUBLIC
X-ALT-DESC;FMTTYPE=text/html:Was früher nur den Braumeistern vorbehalten war\, dürfen Sie an diesem Abend selbst erleben: in den Tiefen unseres Lagerkeller sich das eigene Distelhäuser Bier &ldquo;zwickeln&rdquo;. Wir geben Ihnen zudem einen wissenswerten Einblick in die Herstellung und Lagerung unserer Biere. Dass es an diesem Abend nicht bierernst zugeht\, zeigt auch das anschließende Abendessen: Im Brauhaus erwartet Sie unsere &ldquo;Brauhaus-Gaudi&rdquo;\, bestehend aus Zweierlei vom Rind und Schwein\, Rotkohl\, Spätzle und Serviettenknödel.<br> <br>Sitzplätze\, keine Platzreservierung!
END:VEVENT
END:VCALENDAR
