BEGIN:VCALENDAR
PRODID:-//dvv-bw.de//dvv.Portalplattform//DE
VERSION:2.0
METHOD:PUBLISH
BEGIN:VEVENT
DTSTART:20260503T120000Z
DTEND:20260503T150000Z
DTSTAMP:20260423T091155Z
UID:4096936-3896517-1777759200000
SUMMARY:Café "Anno Dazumal" geöffnet
LOCATION:Jägerhäusle\, Schlossplatz\, 97941 Tauberbischofsheim
DESCRIPTION:In historischem Ambiente selbstgebackenen Kuchen und Torten genießen - folgen Sie der Einladung der "Schlossgeister" zum Kaffeekränzchen ins Jägerhäusle am Schlossplatz.\nDer Eintritt ist frei - nur der Verzehr ist zu bezahlen!
CLASS:PUBLIC
X-ALT-DESC;FMTTYPE=text/html:In historischem Ambiente selbstgebackenen Kuchen und Torten genießen - folgen Sie der Einladung der "Schlossgeister" zum Kaffeekränzchen ins Jägerhäusle am Schlossplatz.<br>Der Eintritt ist frei - nur der Verzehr ist zu bezahlen!
END:VEVENT
END:VCALENDAR
