BEGIN:VCALENDAR
PRODID:-//dvv-bw.de//dvv.Portalplattform//DE
VERSION:2.0
METHOD:PUBLISH
BEGIN:VEVENT
DTSTART:20260710T150000Z
DTEND:20260710T190000Z
DTSTAMP:20260422T215121Z
UID:4183562-4183477-1783634400000
SUMMARY:Burger-Grillkurs
LOCATION:Innenstadt
DESCRIPTION:Der Burger-Grillkurs ist das ideale Erlebnis für alle\, die ihre Leidenschaft für Burger perfektionierenmöchten. Unter der Anleitung erfahrener Grillprofis lernen die Teilnehmenden\, wie saftige Patties entstehen\, aromatische Saucen zubereitet werden und passende Beilagen das Geschmackserlebnis abrunden – für Burger\, die in Geschmack und Optik überzeugen.Im Mittelpunkt stehen erstklassige Zutaten\, das richtige Timing und die passenden Grillmethoden.Geübt wird der Umgang mit direkter und indirekter Hitze auf Gas- und Holzkohlegrills\, um Patties perfekt zu garen. Dabei entstehen kreative Varianten des Klassikers\, etwa der Don Vitello Burger oder das Pulled Chicken Sandwich – besondere Geschmackskompositionen\, die Abwechslung auf den Grill bringen.Der Kurs verbindet praxisnahes Wissen mit echtem Genuss: Vom Formen des Fleisches über das Kombinieren von Saucen und Toppings bis hin zum finalen Anrichten wird jeder Schritt gezeigt und direkt ausprobiert.Das gemeinsame Grillen in entspannter Atmosphäre bietet außerdem Raum für Austausch\, neueIdeen und jede Menge Spaß.Ein Erlebnis\, das Burger-Fans begeistert – ob als Geschenk\, Gutschein oder kulinarischer Abend mit Freunden.\nGetränke sind NICHT inklusive.\nVeranstaltungsort: MÖBEL SCHOTT Outdoor Living\, Daimlerstraße 7\, 97941 Tauberbischofsheim \nVoranmeldung erforderlich unter www.hintermherd.de\nKursnummer 78845; Preis 75\,00 € pro Person; max. Teilnehmerzahl 18
CLASS:PUBLIC
X-ALT-DESC;FMTTYPE=text/html:Der Burger-Grillkurs ist das ideale Erlebnis für alle\, die ihre Leidenschaft für Burger perfektionierenmöchten. Unter der Anleitung erfahrener Grillprofis lernen die Teilnehmenden\, wie saftige Patties entstehen\, aromatische Saucen zubereitet werden und passende Beilagen das Geschmackserlebnis abrunden &ndash; für Burger\, die in Geschmack und Optik überzeugen.Im Mittelpunkt stehen erstklassige Zutaten\, das richtige Timing und die passenden Grillmethoden.Geübt wird der Umgang mit direkter und indirekter Hitze auf Gas- und Holzkohlegrills\, um Patties perfekt zu garen. Dabei entstehen kreative Varianten des Klassikers\, etwa der Don Vitello Burger oder das Pulled Chicken Sandwich &ndash; besondere Geschmackskompositionen\, die Abwechslung auf den Grill bringen.Der Kurs verbindet praxisnahes Wissen mit echtem Genuss: Vom Formen des Fleisches über das Kombinieren von Saucen und Toppings bis hin zum finalen Anrichten wird jeder Schritt gezeigt und direkt ausprobiert.Das gemeinsame Grillen in entspannter Atmosphäre bietet außerdem Raum für Austausch\, neueIdeen und jede Menge Spaß.Ein Erlebnis\, das Burger-Fans begeistert &ndash; ob als Geschenk\, Gutschein oder kulinarischer Abend mit Freunden.<br>Getränke sind NICHT inklusive.<br>Veranstaltungsort: MÖBEL SCHOTT Outdoor Living\, Daimlerstraße 7\, 97941 Tauberbischofsheim <br>Voranmeldung erforderlich unter www.hintermherd.de<br>Kursnummer 78845; Preis 75\,00 &euro; pro Person; max. Teilnehmerzahl 18
END:VEVENT
END:VCALENDAR
