BEGIN:VCALENDAR
PRODID:-//dvv-bw.de//dvv.Portalplattform//DE
VERSION:2.0
METHOD:PUBLISH
BEGIN:VEVENT
DTSTART:20260615T220000Z
DTEND:20260615T220000Z
DTSTAMP:20260422T191301Z
UID:4326214-4326113-1781560800000
SUMMARY:Besichtigung des Kolping-Bildungswerks Tauberbischofsheim
LOCATION:Kolping Bildungszentrum\, Albert-Einstein-Straße 25f\, 97941 Tauberbischofsheim
DESCRIPTION:Besichtigung des Kolping-Bildungswerks Tauberbischofsheim
CLASS:PUBLIC
X-ALT-DESC;FMTTYPE=text/html:Besichtigung des Kolping-Bildungswerks Tauberbischofsheim
END:VEVENT
END:VCALENDAR
