BEGIN:VCALENDAR
PRODID:-//dvv-bw.de//dvv.Portalplattform//DE
VERSION:2.0
METHOD:PUBLISH
BEGIN:VEVENT
DTSTART:20260423T220000Z
DTEND:20260516T220000Z
DTSTAMP:20260422T110523Z
RRULE;FREQ=DAILY;UNTIL=20260517T215959Z
UID:4054793-4054692-1776981600000
SUMMARY:Ausstellung "Ulrike Scheb: Malerei"
LOCATION:Engelsaal\, Blumenstraße 5\, 97941 Tauberbischofsheim
DESCRIPTION:Vernissage: Freitag\, 24. April 2026\, 20 Uhr\nReguläre Öffnungszeiten der Ausstellung: Samstags 10.30 bis 12.30 Uhr und sonntags 14.00 bis 18.00 Uhr sowie nach Vereinbarung (kvtbb@kv-tbb.de)\nEintritt kostenfrei!
CLASS:PUBLIC
X-ALT-DESC;FMTTYPE=text/html:Vernissage: Freitag\, 24. April 2026\, 20 Uhr<br>Reguläre Öffnungszeiten der Ausstellung: Samstags 10.30 bis 12.30 Uhr und sonntags 14.00 bis 18.00 Uhr sowie nach Vereinbarung (kvtbb@kv-tbb.de)<br>Eintritt kostenfrei!
END:VEVENT
END:VCALENDAR
