BEGIN:VCALENDAR
PRODID:-//dvv-bw.de//dvv.Portalplattform//DE
VERSION:2.0
METHOD:PUBLISH
BEGIN:VEVENT
DTSTART:20260430T160000Z
DTEND:20260430T180000Z
DTSTAMP:20260423T062044Z
UID:4407652-4407552-1777500000000
SUMMARY:Aufstellung des Maibaums Dittigheim
LOCATION:Sporthalle TV Dittigheim 1937 e. V., Kastanienallee 6, 97941 Tauberbischofsheim
DESCRIPTION:Aufstellung des Maibaums durch die Freiwillige Feuerwehr Dittigheim.
Bewirtung vor der Turnhalle des TV Dittigheims 1937 e. V. durch den TV Dittigheim.
CLASS:PUBLIC
X-ALT-DESC;FMTTYPE=text/html:Aufstellung des Maibaums durch die Freiwillige Feuerwehr Dittigheim.<br>Bewirtung vor der Turnhalle des TV Dittigheims 1937 e. V. durch den TV Dittigheim.
END:VEVENT
END:VCALENDAR
